BEGIN:VCALENDAR
VERSION:2.0
PRODID:-//ChamberMaster//Event Calendar 2.0//EN
METHOD:PUBLISH
X-PUBLISHED-TTL:P1H
REFRESH-INTERVAL:P1H
CALSCALE:GREGORIAN
BEGIN:VTIMEZONE
TZID:America/New_York
BEGIN:DAYLIGHT
RRULE:FREQ=YEARLY;BYMONTH=3;BYDAY=2SU
DTSTART:20070101T000000
TZOFFSETFROM:-0500
TZOFFSETTO:-0400
TZNAME:Eastern Daylight Time
END:DAYLIGHT
BEGIN:STANDARD
RRULE:FREQ=YEARLY;BYMONTH=11;BYDAY=1SU
DTSTART:20070101T000000
TZOFFSETFROM:-0400
TZOFFSETTO:-0500
TZNAME:Eastern Standard Time
END:STANDARD
END:VTIMEZONE
BEGIN:VEVENT
DTSTART;TZID=America/New_York:20260422T083000
DTEND;TZID=America/New_York:20260422T100000
X-MICROSOFT-CDO-ALLDAYEVENT:FALSE
SUMMARY:Builder Roundtable: Energy Codes & What They Mean for Your Builds
DESCRIPTION:Energy codes aren't just changing they're affecting what you can build\, how you build it\, and what it costs.If you're actively building or planning projects this year\, this is one you shouldn't skip.Join Josh Bialecki of JB's Home Energy for a focused discussion on:What's required right now (and what's being enforced)What's coming next and how soonWhere builders are running into issuesHow to stay ahead without overbuildingThis is your chance to ask questions\, compare notes with other builders\, and walk away with clarity.
X-ALT-DESC;FMTTYPE=text/html:<!DOCTYPE html><html><head><title></title></head><body aria-disabled="false"><p data-end="425" data-start="302">Energy codes aren&rsquo\;t just changing&mdash\;they&rsquo\;re affecting what you can build\, how you build it\, and what it costs.</p><p data-end="518" data-start="427">If you&rsquo\;re actively building or planning projects this year\, this is one you shouldn&rsquo\;t skip.</p><p data-end="591" data-start="520">Join Josh Bialecki of JB&rsquo\;s Home Energy for a focused discussion on:</p><ul fr-original-style="" style="list-style-position: inside\;"><li>What&rsquo\;s required right now (and what&rsquo\;s being enforced)</li><li>What&rsquo\;s coming next&mdash\;and how soon</li><li>Where builders are running into issues</li><li>How to stay ahead without overbuilding</li></ul><p data-end="873" data-start="773">This is your chance to ask questions\, compare notes with other builders\, and walk away with clarity.</p></body></html>
LOCATION:27493 Holiday Lane Suite 201 Perrysburg 43551
UID:e.4019.1399737
SEQUENCE:3
DTSTAMP:20260424T153104Z
URL:https://members.toledohba.com/event-calendar/Details/builder-roundtable-energy-codes-what-they-mean-for-your-builds-1653759?sourceTypeId=Hub
END:VEVENT
END:VCALENDAR
