BEGIN:VCALENDAR
VERSION:2.0
PRODID:-//ChamberMaster//Event Calendar 2.0//EN
METHOD:PUBLISH
X-PUBLISHED-TTL:P1H
REFRESH-INTERVAL:P1H
CALSCALE:GREGORIAN
BEGIN:VTIMEZONE
TZID:America/New_York
BEGIN:DAYLIGHT
RRULE:FREQ=YEARLY;BYMONTH=3;BYDAY=2SU
DTSTART:20070101T000000
TZOFFSETFROM:-0500
TZOFFSETTO:-0400
TZNAME:Eastern Daylight Time
END:DAYLIGHT
BEGIN:STANDARD
RRULE:FREQ=YEARLY;BYMONTH=11;BYDAY=1SU
DTSTART:20070101T000000
TZOFFSETFROM:-0400
TZOFFSETTO:-0500
TZNAME:Eastern Standard Time
END:STANDARD
END:VTIMEZONE
BEGIN:VEVENT
DTSTART;TZID=America/New_York:20260625T170000
DTEND;TZID=America/New_York:20260625T210000
X-MICROSOFT-CDO-ALLDAYEVENT:FALSE
SUMMARY:Summer Smash
DESCRIPTION:More than just Pickleball. Play\, watch\, or just come for the party on the patio!
X-ALT-DESC;FMTTYPE=text/html:More than just Pickleball. Play\, watch\, or just come for the party on the patio!
LOCATION:1030 Water St. Toledo 43604
UID:e.4019.1429600
SEQUENCE:3
DTSTAMP:20260424T154244Z
URL:https://members.toledohba.com/event-calendar/Details/summer-smash-1691116?sourceTypeId=Hub
END:VEVENT
END:VCALENDAR
